BEGIN:VCALENDAR
VERSION:2.0
PRODID:icalendar-ruby
CALSCALE:GREGORIAN
BEGIN:VEVENT
DTSTAMP:20260423T054616Z
UID:82cd2690-1a63-4957-8f86-ab6b72b63f84
DTSTART:20250622T090000Z
DTEND:20250627T000000Z
DESCRIPTION:This conference will bring together scientists from across the 
 globe to present and discuss the latest advancements in the understanding 
 of ultrafast molecular and chemical dynamics. The conference will encompa
 ss complex processes in chemistry\, biology\, materials science\, and phys
 ics\, from both theoretical and experimental perspectives. Notably\, it wi
 ll highlight the most advanced methods in ultrafast spectroscopy and struc
 tural research. \n\n\n\n\nEarly Bird registration: 28 April 2025\n\n\n\nL
 ate Registration: 13 June 2025\n\n\n\nAbstract submission deadline: 31 Mar
 ch 2025\n\n\n\nAbstracts review: 14 April 2025 
SUMMARY:The 16th Femtochemistry Conference (FEMTO 16)- Dynamics of Complex 
 Molecular Processes in Chemistry\, Biology\, and Physics.  
URL;VALUE=URI:https://indico.elettra.eu/event/44/overview
END:VEVENT
END:VCALENDAR
