BEGIN:VCALENDAR
VERSION:2.0
PRODID:icalendar-ruby
CALSCALE:GREGORIAN
BEGIN:VEVENT
DTSTAMP:20260422T215751Z
UID:3a552ccc-bfc5-4eef-bfda-41a31890acb0
DTSTART:20250922T090000Z
DTEND:20250926T000000Z
DESCRIPTION:We are excited to announce the 13th International Conference on
  Mechanical Engineering Design of Synchrotron Radiation Equipment and Inst
 rumentation (MEDSI2025)\, set to take place in Lund\, Sweden. Hosted by MA
 X IV Laboratory\, the conference will run from September 15th to 19th\, 20
 25. A five-day program will feature a variety of invited and contributed t
 alks\, poster sessions\, and industrial exhibitions. We will cover key top
 ics such as storage rings\, beamlines\, optics\, end-station instrumentati
 on\, and advancements in technology areas like vacuum\, cryogenics\, and p
 recision mechanics. Registration for MEDSI2025 will open in early 2025.\n\
 n\n\nmportant dates\n\n\n\nEventDateSponsor registrations opensNovember 5t
 h 2024Abstract submission opensJanuary 15th 2025Abstract submission deadli
 neMay 2nd 2025Early bird registrations opensApril 2025Regular registration
  opensJune 2025Conference datesSeptember 15–19 2025
SUMMARY:MEDSI 2025 13th International Conference on Mechanical Engineering 
 Design of Synchrotron Radiation Equipment and Instrumentation (MEDSI) 2025
URL;VALUE=URI:https://www.medsi2025.com/
END:VEVENT
END:VCALENDAR
