BEGIN:VCALENDAR
VERSION:2.0
PRODID:icalendar-ruby
CALSCALE:GREGORIAN
BEGIN:VEVENT
DTSTAMP:20260422T235208Z
UID:a2c120ef-32e1-4355-929f-8a2e0ffd6848
DTSTART:20260913T090000Z
DTEND:20260918T170000Z
DESCRIPTION:The 14th International Conference on Inelastic X-ray Scattering
  (IXS2026) will connect scientists from around the world who are pushing t
 he boundaries of resonant and non-resonant inelastic X-ray scattering to t
 ackle today’s most compelling scientific challenges.\n\nA vibrant commun
 ity of researchers to share breakthrough discoveries\, explore the latest 
 advances in theory\, experiment and instrumentation\, and help shape the f
 uture of the field.\n\nParticipants will gain new perspectives into how IX
 S techniques are transforming our understanding of emerging materials—fr
 om correlated electron systems to complex functional materials. IXS2026 wi
 ll be held at the Advanced Photon Source at Argonne National Laboratory ne
 ar Chicago\, IL\, USA.
LOCATION:Argonne National Laboratory\, Illinois\, US APS Conference Center 
 Building #402 Auditorium
SUMMARY:IXS2026 – The 14th International Conference on Inelastic X-ray Sc
 attering
URL;VALUE=URI:https://web.cvent.com/event/27c946d3-481c-45c4-b460-cd5402449
 f48/summary
END:VEVENT
END:VCALENDAR
